Workbook

Sheet НОО I полуг 
L1: Приложение к приказу от ________ № _______
A2: ЕДИНЫЙ ГРАФИК оценочных процедур МБОУ Новониколаевской сош(наименование общеобразовательной организации) на 2026-2027 учебный год НАЧАЛЬНОЕ ОБЩЕЕ ОБРАЗОВАНИЕ:
A3: Период проведения оценочной процедуры | B3: Сентябрь | E3: Октябрь | H3: Ноябрь | K3: Декабрь | N3: Всего
B4: Федеральные оценочные процедуры | C4: Оценочные процедуры по инициативе ОО | D4: Всего | E4: Федеральные оценочные процедуры | F4: Оценочные процедуры по инициативе ОО | G4: Всего | H4: Федеральные оценочные процедуры | I4: Оценочные процедуры по инициативе ОО | J4: Всего | K4: Федеральные оценочные процедуры | L4: Оценочные процедуры по инициативе ОО | M4: Всего | N4: В I полугодии 2026-2027 учебного года
A5: 2 классы
A6: Русский язык | L6: 46384 | M6: 1 | N6: =SUM(M6,J6,G6,D6) -> 1
A7: Литературное чтение | N7: =SUM(M7,J7,G7,D7) -> 0
A8: Математика | C8: 46274 | D8: 1 | I8: 5.11.26 ;25.11.26 | J8: 2 | N8: =SUM(M8,J8,G8,D8) -> 3
A9: Окружающий мир | L9: 46374 | M9: 1 | N9: =SUM(M9,J9,G9,D9) -> 1
A10: Иностранный язык (английский) | L10: 46366 | N10: 1
A11: Труд | N11: =SUM(M11,J11,G11,D11) -> 0
A12: Изобразительное искусство | N12: =SUM(M12,J12,G12,D12) -> 0
A13: Музыка | N13: =SUM(M13,J13,G13,D13) -> 0
A14: Физическая культура | N14: =SUM(M14,J14,G14,D14) -> 0
A15: 3 классы
A16: Русский язык | B16: 46280 | E16: 46307 | K16: 46380 | N16: =SUM(M16,J16,G16,D16) -> 0
A17: Литературное чтение | N17: =SUM(M17,J17,G17,D17) -> 0
A18: Математика | B18: 46276 | E18: 46310 | K18: 46372 | N18: =SUM(M18,J18,G18,D18) -> 0
A19: Окружающий мир | K19: 46377 | N19: =SUM(M19,J19,G19,D19) -> 0
A20: Труд | N20: =SUM(M20,J20,G20,D20) -> 0
A21: Иностранный язык (английский) | F21: 46315 | N21: =SUM(M21,J21,G21,D21) -> 0
A22: Изобразительное искусство | N22: =SUM(M22,J22,G22,D22) -> 0
A23: Музыка | N23: =SUM(M23,J23,G23,D23) -> 0
A24: Физическая культура | N24: =SUM(M24,J24,G24,D24) -> 0
A25: 4 класс
A26: Русский язык | C26: 46282 | D26: 1 | I26: 46336 | J26: 1 | L26: 46384 | M26: 1 | N26: =SUM(M26,J26,G26,D26) -> 3
A27: Родной язык (русский) | N27: =SUM(M27,J27,G27,D27) -> 0
A28: Литературное чтение | N28: =SUM(M28,J28,G28,D28) -> 0
A29: Литературное чтение на родном языке (русском) | N29: =SUM(M29,J29,G29,D29) -> 0
A30: Математика | B30: 46280 | E30: 46303 | L30: 46380 | N30: =SUM(M30,J30,G30,D30) -> 0
A31: Окружающий мир | C31: 46288 | D31: 1 | L31: 46374 | M31: 1 | N31: =SUM(M31,J31,G31,D31) -> 2
A32: Труд | N32: =SUM(M32,J32,G32,D32) -> 0
A33: Иностранный язык (английский) | F33: 46315 | G33: 1 | L33: 46378 | M33: 1 | N33: 2
A34: ОРКСЭ (ОПК) | N34: =SUM(M34,J34,G34,D34) -> 0
A35: Изобразительное искусство | N35: =SUM(M35,J35,G35,D35) -> 0
A36: Музыка | N36: =SUM(M36,J36,G36,D36) -> 0
A37: Физическая культура | N37: =SUM(M37,J37,G37,D37) -> 0

Sheet НОО II полуг
R1: Приложение к приказу от ________ № _______
A2: ЕДИНЫЙ ГРАФИК оценочных процедур МБОУ Новониколаевской сош(наименование общеобразовательной организации) на II полугодие 2026-2027 учебного года НАЧАЛЬНОЕ ОБЩЕЕ ОБРАЗОВАНИЕ:
A3: Период проведения оценочной процедуры | B3: Январь | E3: Февраль | H3: Март | K3: Апрель | N3: Май | Q3: Всего | R3: Всего
B4: Федеральные оценочные процедуры | C4: Оценочные процедуры по инициативе ОО | D4: Всего | E4: Федеральные оценочные процедуры | F4: Оценочные процедуры по инициативе ОО | G4: Всего | H4: Федеральные оценочные процедуры | I4: Оценочные процедуры по инициативе ОО | J4: Всего | K4: Федеральные оценочные процедуры | L4: Оценочные процедуры по инициативе ОО | M4: Всего | N4: Федеральные оценочные процедуры | O4: Оценочные процедуры по инициативе ОО | P4: Всего | Q4: Во II полугодии 2026-2027 учебного года | R4: Всего оценочных процедур за 2026-2027 учебный год | S4: Количество часов по учебному плану | T4: % соотношение количества оценочных процедур к количеству часов УП
A5: 2 классы
A6: Русский язык | C6: 20.01.2027 | D6: 1 | I6: 46470 | J6: 1 | L6: 46492 | M6: 1 | O6: 46531 | P6: 1 | Q6: =SUM(P6,M6,J6,G6,D6) -> 4 | R6: =SUM(Q6+'НОО I полуг '!N6) -> 5 | S6: 170 | T6: =(R6/S6)*100 -> 2.9411765
A7: Литературное чтение | Q7: =SUM(P7,M7,J7,G7,D7) -> 0 | R7: =SUM(Q7+'НОО I полуг '!N7) -> 0 | T7: =(R7/S7)*100 -> #DIV/0!
A8: Математика | C8: 46399 | D8: 1 | F8: 46427 | G8: 1 | I8: 46456 | J8: 1 | L8: 46491 | M8: 1 | O8: 46519 | P8: 1 | Q8: =SUM(P8,M8,J8,G8,D8) -> 5 | R8: =SUM(Q8+'НОО I полуг '!N8) -> 8 | S8: 136 | T8: =(R8/S8)*100 -> 5.8823529
A9: Окружающий мир | C9: 46409 | D9: 1 | L9: 46493 | M9: 1 | Q9: =SUM(P9,M9,J9,G9,D9) -> 2 | R9: =SUM(Q9+'НОО I полуг '!N9) -> 3 | S9: 68 | T9: =(R9/S9)*100 -> 4.4117647
A10: Иностранный язык (английский) | F10: 46436 | L10: 46490 | O10: 46520 | Q10: 3 | R10: 4 | S10: 68 | T10: =(R10/S10)*100 -> 5.8823529
A11: Труд | Q11: =SUM(P11,M11,J11,G11,D11) -> 0 | R11: =SUM(Q11+'НОО I полуг '!N11) -> 0 | T11: 0
A12: Изобразительное искусство | Q12: =SUM(P12,M12,J12,G12,D12) -> 0 | R12: =SUM(Q12+'НОО I полуг '!N12) -> 0 | T12: 0
A13: Музыка | Q13: =SUM(P13,M13,J13,G13,D13) -> 0 | R13: =SUM(Q13+'НОО I полуг '!N13) -> 0 | T13: 0
A14: Физическая культура | Q14: =SUM(P14,M14,J14,G14,D14) -> 0 | R14: =SUM(Q14+'НОО I полуг '!N14) -> 0 | T14: 0
A15: 3 классы | R15: 0
A16: Русский язык | H16: 46465 | K16: 46490 | O16: 46525 | Q16: =SUM(P16,M16,J16,G16,D16) -> 0 | R16: =SUM(Q16+'НОО I полуг '!N16) -> 0 | S16: 170 | T16: =(R16/S16)*100 -> 0
A17: Литературное чтение | Q17: =SUM(P17,M17,J17,G17,D17) -> 0 | R17: =SUM(Q17+'НОО I полуг '!N17) -> 0 | T17: =(R17/S17)*100 -> #DIV/0!
A18: Математика | E18: 46422 | H18: 46462 | N18: 46526 | Q18: =SUM(P18,M18,J18,G18,D18) -> 0 | R18: =SUM(Q18+'НОО I полуг '!N18) -> 0 | S18: 136 | T18: =(R18/S18)*100 -> 0
A19: Окружающий мир | O19: 46520 | Q19: =SUM(P19,M19,J19,G19,D19) -> 0 | R19: =SUM(Q19+'НОО I полуг '!N19) -> 0 | S19: 68 | T19: =(R19/S19)*100 -> 0
A20: Труд | Q20: =SUM(P20,M20,J20,G20,D20) -> 0 | R20: =SUM(Q20+'НОО I полуг '!N20) -> 0 | T20: =(R20/S20)*100 -> #DIV/0!
A21: Иностранный язык (английский) | F21: 46419 | L21: 46503 | O21: 46527 | Q21: 3 | R21: 4 | S21: 68 | T21: =(R21/S21)*100 -> 5.8823529
A22: Изобразительное искусство | Q22: =SUM(P22,M22,J22,G22,D22) -> 0 | R22: =SUM(Q22+'НОО I полуг '!N22) -> 0 | T22: =(R22/S22)*100 -> #DIV/0!
A23: Музыка | Q23: =SUM(P23,M23,J23,G23,D23) -> 0 | R23: =SUM(Q23+'НОО I полуг '!N23) -> 0 | T23: =(R23/S23)*100 -> #DIV/0!
A24: Физическая культура | Q24: =SUM(P24,M24,J24,G24,D24) -> 0 | R24: =SUM(Q24+'НОО I полуг '!N24) -> 0 | T24: =(R24/S24)*100 -> #DIV/0!
A25: 4 классы
A26: Русский язык | F26: 46430 | G26: 1 | L26: 46485 | M26: 1 | N26: 46513 | P26: 1 | Q26: =SUM(M26,J26,P26,G26,D26) -> 3 | R26: =SUM(Q26+'НОО I полуг '!N26) -> 6 | S26: 170 | T26: =(R26/S26)*100 -> 3.5294118
A27: Родной язык (русский) | Q27: =SUM(M27,J27,P27,G27,D27) -> 0 | R27: =SUM(Q27+'НОО I полуг '!N27) -> 0 | T27: 0
A28: Литературное чтение | Q28: =SUM(M28,J28,P28,G28,D28) -> 0 | R28: =SUM(Q28+'НОО I полуг '!N28) -> 0 | T28: 0
A29: Литературное чтение на родном языке (русском) | Q29: =SUM(M29,J29,P29,G29,D29) -> 0 | R29: =SUM(Q29+'НОО I полуг '!N29) -> 0 | T29: 0
A30: Математика | E30: 46435 | H30: 46470 | K30: 46491 | Q30: =SUM(M30,J30,P30,G30,D30) -> 0 | R30: =SUM(Q30+'НОО I полуг '!N30) -> 0 | S30: 136 | T30: =(R30/S30)*100 -> 0
A31: Окружающий мир | C31: 46407 | D31: 1 | L31: 46507 | M31: 1 | N31: 46528 | P31: 1 | Q31: 3 | R31: =SUM(Q31+'НОО I полуг '!N31) -> 5 | S31: 68 | T31: =(R31/S31)*100 -> 7.3529412
A32: Труд | Q32: =SUM(M32,J32,P32,G32,D32) -> 0 | R32: =SUM(Q32+'НОО I полуг '!N32) -> 0 | T32: 0
A33: Иностранный язык (английский) | L33: 46483 | M33: 1 | N33: 46527 | P33: 1 | Q33: 2 | R33: =SUM(Q33+'НОО I полуг '!N33) -> 4 | S33: 68 | T33: =(R33/S33)*100 -> 5.8823529
A34: ОРКСЭ (ОПК) | Q34: =SUM(M34,J34,P34,G34,D34) -> 0 | R34: =SUM(Q34+'НОО I полуг '!N34) -> 0 | T34: 0
A35: Изобразительное искусство | Q35: =SUM(M35,J35,P35,G35,D35) -> 0 | R35: =SUM(Q35+'НОО I полуг '!N35) -> 0 | T35: 0
A36: Музыка | Q36: =SUM(M36,J36,P36,G36,D36) -> 0 | R36: =SUM(Q36+'НОО I полуг '!N36) -> 0 | T36: 0
A37: Физическая культура | Q37: =SUM(M37,J37,P37,G37,D37) -> 0 | R37: =SUM(Q37+'НОО I полуг '!N37) -> 0 | T37: 0

Sheet ООО I полуг
M1: Приложение к приказу от ________ № _______
A2: ЕДИНЫЙ ГРАФИК оценочных процедур МБОУ Новониколаевской сош(наименование общеобразовательной организации) на 2026-2027 учебный год ОСНОВНОЕ ОБЩЕЕ ОБРАЗОВАНИЕ:
A3: Период проведения оценочной процедуры | B3: Сентябрь | E3: Октябрь | H3: Ноябрь | K3: Декабрь | N3: Всего
B4: Федеральные оценочные процедуры | C4: Оценочные процедуры по инициативе ОО | D4: Всего | E4: Федеральные оценочные процедуры | F4: Оценочные процедуры по инициативе ОО | G4: Всего | H4: Федеральные оценочные процедуры | I4: Оценочные процедуры по инициативе ОО | J4: Всего | K4: Федеральные оценочные процедуры | L4: Оценочные процедуры по инициативе ОО | M4: Всего | N4: В I полугодии 2026-2027 учебного года
A5: 5 классы
A6: Русский язык | C6: 10.09.2026 | L6: 46357 | N6: 2
A7: Литература | L7: 46384 | N7: 1
A8: Иностранный язык (английский) | F8: 46297 | L8: 46360 | M8: 2 | N8: =SUM(M8,J8,G8,D8) -> 2
A9: Математика | C9: 46281 | I9: 46336 | M9: 2 | N9: =SUM(M9,J9,G9,D9) -> 2
A10: История | F10: 46296 | I10: 46338 | L10: 46374 | N10: =SUM(M10,J10,G10,D10) -> 0
A11: География | I11: 46352 | J11: 1 | N11: =SUM(M11,J11,G11,D11) -> 1
A12: Биология | N12: =SUM(M12,J12,G12,D12) -> 0
A13: ДНКР | N13: =SUM(M13,J13,G13,D13) -> 0
A14: Труд | N14: =SUM(M14,J14,G14,D14) -> 0
A15: Изобразительное искусство | N15: =SUM(M15,J15,G15,D15) -> 0
A16: Музыка | N16: =SUM(M16,J16,G16,D16) -> 0
A17: Физическая культура | N17: =SUM(M17,J17,G17,D17) -> 0
A18: 6 классы
A19: Русский язык | C19: 46275 | F19: 46311 | I19: 25.11.26 | L19: 15.12.2026 29.12.2026 | N19: 5
A20: Литература | C20: 0 | N20: =SUM(M20,J20,G20,D20) -> 0
A21: Иностранный язык (английский) | F21: 46303 | L21: 46380 | M21: 2 | N21: =SUM(M21,J21,G21,D21) -> 2
A22: Математика | F22: 46308 | L22: 46372 | M22: 2 | N22: =SUM(M22,J22,G22,D22) -> 2
A23: История | I23: 46342 | N23: =SUM(M23,J23,G23,D23) -> 0
A24: География | I24: 46349 | J24: 1 | N24: =SUM(M24,J24,G24,D24) -> 1
A25: Биология | N25: =SUM(M25,J25,G25,D25) -> 0
A26: Изобразительное искусство | N26: =SUM(M26,J26,G26,D26) -> 0
A27: Музыка | N27: =SUM(M27,J27,G27,D27) -> 0
A28: труд | N28: =SUM(M28,J28,G28,D28) -> 0
A29: Физическая культура | N29: =SUM(M29,J29,G29,D29) -> 0
A30: ОБЗР | N30: =SUM(M30,J30,G30,D30) -> 0
N31: =SUM(M31,J31,G31,D31) -> 0
A32: 7 классы
A33: Русский язык | C33: 46275 | D33: 1 | F33: 46296 | G33: 1 | L33: 03.12.26 21.12.26 | M33: 2 | N33: =SUM(M33,J33,G33,D33) -> 4
A34: Литература | N34: =SUM(M34,J34,G34,D34) -> 0
A35: Иностранный язык (английский) | I35: 46339 | L35: 46372 | M35: 2 | N35: =SUM(M35,J35,G35,D35) -> 2
A36: Алгебра | I36: 46337 | L36: 46384 | M36: 2 | N36: =SUM(M36,J36,G36,D36) -> 2
A37: Вероятность и статистика | L37: 46370 | M37: 1 | N37: =SUM(M37,J37,G37,D37) -> 1
A38: Геометрия | L38: 46373 | M38: 1 | N38: =SUM(M38,J38,G38,D38) -> 1
A39: Информатика | L39: 46379 | M39: 1 | N39: =SUM(M39,J39,G39,D39) -> 1
A40: История России. Всеобщая история | N40: =SUM(M40,J40,G40,D40) -> 0
...

Sheet ООО II полуг
R1: Приложение к приказу от ________ № _______
A2: ЕДИНЫЙ ГРАФИК оценочных процедур МБОУ Новониколаевской сош(наименование общеобразовательной организации) на 2026-2027 учебный год ОСНОВНОЕ ОБЩЕЕ ОБРАЗОВАНИЕ:
A3: Период проведения оценочной процедуры | B3: Январь | E3: Февраль | H3: Март | K3: Апрель | N3: Май | Q3: Всего | R3: Всего
B4: Федеральные оценочные процедуры | C4: Оценочные процедуры по инициативе ОО | D4: Всего | E4: Федеральные оценочные процедуры | F4: Оценочные процедуры по инициативе ОО | G4: Всего | H4: Федеральные оценочные процедуры | I4: Оценочные процедуры по инициативе ОО | J4: Всего | K4: Федеральные оценочные процедуры | L4: Оценочные процедуры по инициативе ОО | M4: Всего | N4: Федеральные оценочные процедуры | O4: Оценочные процедуры по инициативе ОО | P4: Всего | Q4: Во II полугодии 2026-2027 учебного года | R4: Всего оценочных процедур за 2026-2027 учебный год | S4: Количество часов по учебному плану | T4: % соотношение количества оценочных процедур к количеству часов УП
A5: 5 классы
A6: Русский язык | F6: 46058 | I6: 46100 | L6: 46127 | N6: 12.05.2026 | O6: 21.05.2026 25.05.2026 | Q6: 6 | R6: =SUM(Q6+'ООО I полуг'!N6) -> 8 | S6: 170 | T6: =(R6/S6)*100 -> 4.7058824
A7: Литература | O7: 46521 | Q7: 1 | R7: =SUM(Q7+'ООО I полуг'!N7) -> 2 | S7: 68 | T7: =(R7/S7)*100 -> 2.9411765
A8: Иностранный язык (английский) | I8: 46096 | O8: 46149 | Q8: 2 | R8: =SUM(Q8+'ООО I полуг'!N8) -> 4 | S8: 102 | T8: =(R8/S8)*100 -> 3.9215686
A9: Математика | F9: 46429 | L9: 46506 | N9: 17.05.27 18.05.27 | P9: 4 | Q9: =SUM(P9,M9,J9,G9,D9) -> 4 | R9: =SUM(Q9+'ООО I полуг'!N9) -> 6 | S9: 170 | T9: =(R9/S9)*100 -> 3.5294118
A10: История | L10: 46501 | Q10: =SUM(P10,M10,J10,G10,D10) -> 0 | R10: =SUM(Q10+'ООО I полуг'!N10) -> 0 | S10: 102 | T10: =(R10/S10)*100 -> 0
A11: География | F11: 46435 | G11: 1 | O11: 46513 | P11: 1 | Q11: =SUM(P11,M11,J11,G11,D11) -> 2 | R11: =SUM(Q11+'ООО I полуг'!N11) -> 3 | S11: 68 | T11: =(R11/S11)*100 -> 4.4117647
A12: Биология | Q12: =SUM(P12,M12,J12,G12,D12) -> 0 | R12: =SUM(Q12+'ООО I полуг'!N12) -> 0 | S12: 34 | T12: =(R12/S12)*100 -> 0
A13: ОДНКНР (ОДНКНДК) | Q13: =SUM(P13,M13,J13,G13,D13) -> 0 | R13: =SUM(Q13+'ООО I полуг'!N13) -> 0 | T13: 0
A14: Труд | Q14: =SUM(P14,M14,J14,G14,D14) -> 0 | R14: =SUM(Q14+'ООО I полуг'!N14) -> 0 | T14: 0
A15: Изобразительное искусство | Q15: =SUM(P15,M15,J15,G15,D15) -> 0 | R15: =SUM(Q15+'ООО I полуг'!N15) -> 0 | T15: 0
A16: Музыка | Q16: =SUM(P16,M16,J16,G16,D16) -> 0 | R16: =SUM(Q16+'ООО I полуг'!N16) -> 0 | T16: 0
A17: Физическая культура | Q17: =SUM(P17,M17,J17,G17,D17) -> 0 | R17: =SUM(Q17+'ООО I полуг'!N17) -> 0 | T17: 0
A18: 6 классы
A19: Русский язык | C19: 46042 | F19: 46056 | I19: 03.03.2026 16.03.2026 | L19: 46117 | N19: 46527 | O19: 19.05.2026 25.05.2026 | Q19: 5 | R19: 8 | S19: 204 | T19: =(R19/S19)*100 -> 3.9215686
A20: Литература | F20: 46054 | L20: 46138 | Q20: =SUM(P20,M20,J20,G20,D20) -> 0 | R20: =SUM(Q20+'ООО I полуг'!N20) -> 0 | S20: 102 | T20: =(R20/S20)*100 -> 0
A21: Иностранный язык (английский) | F21: 46420 | I21: 46469 | O21: 46525 | Q21: 3 | R21: =SUM(Q21+'ООО I полуг'!N21) -> 5 | S21: 102 | T21: =(R21/S21)*100 -> 4.9019608
A22: Математика | L22: 46484 | N22: 19.05.27 20.05.27 | P22: 3 | Q22: =SUM(P22,M22,J22,G22,D22) -> 3 | R22: =SUM(Q22+'ООО I полуг'!N22) -> 5 | T22: 0
A23: История России. Всеобщая история | C23: 46412 | L23: 46124 | Q23: =SUM(P23,M23,J23,G23,D23) -> 0 | R23: =SUM(Q23+'ООО I полуг'!N23) -> 0 | S23: 170 | T23: =(R23/S23)*100 -> 0
A24: ОБЗР | Q24: =SUM(P24,M24,J24,G24,D24) -> 0 | R24: =SUM(Q24+'ООО I полуг'!N24) -> 1 | S24: 102 | T24: =(R24/S24)*100 -> 0.98039216
A25: География | F25: 46438 | G25: 1 | O25: 46503 | P25: 1 | Q25: =SUM(P25,M25,J25,G25,D25) -> 2 | R25: 3 | S25: 34 | T25: =(R25/S25)*100 -> 8.8235294
A26: Биология | Q26: =SUM(P26,M26,J26,G26,D26) -> 0 | R26: =SUM(Q26+'ООО I полуг'!N26) -> 0 | S26: 34 | T26: =(R26/S26)*100 -> 0
A27: Изобразительное искусство | Q27: =SUM(P27,M27,J27,G27,D27) -> 0 | R27: =SUM(Q27+'ООО I полуг'!N27) -> 0 | S27: 34 | T27: =(R27/S27)*100 -> 0
A28: Музыка | Q28: =SUM(P28,M28,J28,G28,D28) -> 0 | R28: =SUM(Q28+'ООО I полуг'!N28) -> 0 | T28: 0
A29: Труд | Q29: =SUM(P29,M29,J29,G29,D29) -> 0 | R29: =SUM(Q29+'ООО I полуг'!N29) -> 0 | T29: 0
A30: Физическая культура | Q30: =SUM(P30,M30,J30,G30,D30) -> 0 | R30: =SUM(Q30+'ООО I полуг'!N30) -> 0 | T30: 0
A31: 7 классы
A32: Русский язык | C32: 46400 | D32: 1 | F32: 46436 | G32: 1 | O32: 46528 | P32: 1 | Q32: =SUM(P32,M32,J32,G32,D32) -> 3 | R32: =SUM(Q32+'ООО I полуг'!N33) -> 7 | S32: 136 | T32: =(R32/S32)*100 -> 5.1470588
A33: Литература | C33: 46406 | D33: 1 | L33: 46497 | M33: 1 | Q33: =SUM(P33,M33,J33,G33,D33) -> 2 | R33: =SUM(Q33+'ООО I полуг'!N34) -> 2 | S33: 68 | T33: =(R33/S33)*100 -> 2.9411765
A34: Иностранный язык (английский) | F34: 46423 | I34: 46465 | O34: 46526 | P34: 3 | Q34: =SUM(P34,M34,J34,G34,D34) -> 3 | R34: =SUM(Q34+'ООО I полуг'!N35) -> 5 | S34: 102 | T34: 0
A35: Алгебра | I35: 46456 | N35: 14.05.27 17.05.27 | P35: 3 | Q35: =SUM(P35,M35,J35,G35,D35) -> 3 | R35: =SUM(Q35+'ООО I полуг'!N36) -> 5 | T35: 0
A36: Вероятность и статистика | O36: 46524 | P36: 1 | Q36: =SUM(P36,M36,J36,G36,D36) -> 1 | R36: =SUM(Q36+'ООО I полуг'!N37) -> 2 | S36: 204 | T36: =(R36/S36)*100 -> 0.98039216
A37: Геометрия | I37: 46457 | O37: 06.05.27 18.05.27 | P37: 3 | Q37: =SUM(P37,M37,J37,G37,D37) -> 3 | R37: =SUM(Q37+'ООО I полуг'!N38) -> 4 | T37: 0
A38: Информатика | K38: 46498 | Q38: =SUM(P38,M38,J38,G38,D38) -> 0 | R38: =SUM(Q38+'ООО I полуг'!N39) -> 1 | S38: 102 | T38: =(R38/S38)*100 -> 0.98039216
A39: История России. Всеобщая история | Q39: =SUM(P39,M39,J39,G39,D39) -> 0 | R39: 0 | S39: 34 | T39: =(R39/S39)*100 -> 0
A40: География | F40: 46444 | G40: 1 | L40: 46500 | M40: 1 | Q40: =SUM(P40,M40,J40,G40,D40) -> 2 | R40: 3 | S40: 68 | T40: =(R40/S40)*100 -> 4.4117647
...

Sheet СОО I полуг
M1: Приложение к приказу от ________ № _______
A2: ЕДИНЫЙ ГРАФИК оценочных процедур МБОУ Новониколаевской сош(наименование общеобразовательной организации) на 2026-2027 учебный год ОСНОВНОЕ ОБЩЕЕ ОБРАЗОВАНИЕ:
A3: Период проведения оценочной процедуры | B3: Сентябрь | E3: Октябрь | H3: Ноябрь | K3: Декабрь | N3: Всего
B4: Федеральные оценочные процедуры | C4: Оценочные процедуры по инициативе ОО | D4: Всего | E4: Федеральные оценочные процедуры | F4: Оценочные процедуры по инициативе ОО | G4: Всего | H4: Федеральные оценочные процедуры | I4: Оценочные процедуры по инициативе ОО | J4: Всего | K4: Федеральные оценочные процедуры | L4: Оценочные процедуры по инициативе ОО | M4: Всего | N4: В I полугодии 2026-2027 учебного года
A5: 10 класс
A6: Русский язык | L6: 46358 | M6: 1 | N6: =SUM(M6,J6,G6,D6) -> 1
A7: Литература | L7: 46366 | M7: 1 | N7: 0
A8: Иностранный язык (английский) | F8: 46311 | L8: 46360 | M8: 2 | N8: =SUM(M8,J8,G8,D8) -> 2
A9: Алгебра и начала математического анализа | F9: 46307 | G9: 1 | I9: 46339 | J9: 1 | L9: 09.12.26, 28.12.26 | M9: 2 | N9: =SUM(M9,J9,G9,D9) -> 4
A10: Геометрия | F10: 46315 | G10: 1 | N10: =SUM(M10,J10,G10,D10) -> 1
A11: Вероятность и статистика | L11: 46377 | M11: 1 | N11: =SUM(M11,J11,G11,D11) -> 1
A12: Информатика | N12: =SUM(M12,J12,G12,D12) -> 0
A13: История | I13: 46356 | N13: =SUM(M13,J13,G13,D13) -> 0
A14: Обществознание (включая экономику и право) | F14: 46308 | N14: =SUM(M14,J14,G14,D14) -> 0
A15: География | N15: =SUM(M15,J15,G15,D15) -> 0
A16: Биология | N16: =SUM(M16,J16,G16,D16) -> 0
A17: Физика | C17: 46293 | D17: 1 | F17: 46316 | G17: 1 | I17: 46344 | J17: 1 | L17: 46367 | M17: 1 | N17: =SUM(M17,J17,G17,D17) -> 4
A18: Химия | L18: 46379 | N18: =SUM(M18,J18,G18,D18) -> 0
A19: Индивидуальный проект | N19: =SUM(M19,J19,G19,D19) -> 0
A20: Физическая культура | N20: =SUM(M20,J20,G20,D20) -> 0
A21: ОБЗР | N21: =SUM(M21,J21,G21,D21) -> 0
A22: 11 классы
A23: Русский язык | N23: =SUM(M23,J23,G23,D23) -> 0
A24: Литература | N24: =SUM(M24,J24,G24,D24) -> 0
A25: Иностранный язык (английский) | N25: =SUM(M25,J25,G25,D25) -> 0
A26: Алгебра и начала математического анализа | N26: =SUM(M26,J26,G26,D26) -> 0
A27: Геометрия | N27: =SUM(M27,J27,G27,D27) -> 0
A28: Вероятность и стасистика | N28: =SUM(M28,J28,G28,D28) -> 0
A29: Информатика | N29: =SUM(M29,J29,G29,D29) -> 0
A30: История | N30: 1
A31: Обществознание (включая экономику и право | N31: =SUM(M31,J31,G31,D31) -> 0
A32: География | N32: =SUM(M32,J32,G32,D32) -> 0
A33: Биология | N33: =SUM(M33,J33,G33,D33) -> 0
A34: Физика | N34: =SUM(M34,J34,G34,D34) -> 0
A35: Химия | N35: =SUM(M35,J35,G35,D35) -> 0
A36: Индивидуальный проект | N36: =SUM(M36,J36,G36,D36) -> 0
A37: Физическая культура | N37: =SUM(M37,J37,G37,D37) -> 0
A38: ОБЗР | N38: =SUM(M38,J38,G38,D38) -> 0

Sheet СОО II полуг
R1: Приложение к приказу от ________ № _______
A2: ЕДИНЫЙ ГРАФИК оценочных процедур МБОУ Новониколаевской сош(наименование общеобразовательной организации) на 2026-2027 учебный год ОСНОВНОЕ ОБЩЕЕ ОБРАЗОВАНИЕ:
A3: Период проведения оценочной процедуры | B3: Январь | E3: Февраль | H3: Март | K3: Апрель | N3: Май | Q3: Всего | R3: Всего
B4: Федеральные оценочные процедуры | C4: Оценочные процедуры по инициативе ОО | D4: Всего | E4: Федеральные оценочные процедуры | F4: Оценочные процедуры по инициативе ОО | G4: Всего | H4: Федеральные оценочные процедуры | I4: Оценочные процедуры по инициативе ОО | J4: Всего | K4: Федеральные оценочные процедуры | L4: Оценочные процедуры по инициативе ОО | M4: Всего | N4: Федеральные оценочные процедуры | O4: Оценочные процедуры по инициативе ОО | P4: Всего | Q4: Во II полугодии 2026-2027 учебного года | R4: Всего оценочных процедур за 2026-2027 учебный год | S4: Количество часов по учебному плану | T4: % соотношение количества оценочных процедур к количеству часов УП
A5: 10 класс
A6: Русский язык | C6: 46400 | I6: 46456 | O6: 46519 | Q6: =SUM(P6,M6,J6,G6,D6) -> 0 | R6: =SUM(Q6+'СОО I полуг'!N6) -> 1 | S6: 68 | T6: =(R6/S6)*100 -> 1.4705882
A7: Литература | L7: 46493 | O7: 46513 | P7: 3 | Q7: =SUM(P7,M7,J7,G7,D7) -> 3 | R7: =SUM(Q7+'СОО I полуг'!N7) -> 3 | S7: 102 | T7: =(R7/S7)*100 -> 2.9411765
A8: Иностранный язык (английский) | F8: 46428 | I8: 46465 | O8: 46514 | P8: 3 | Q8: =SUM(P8,M8,J8,G8,D8) -> 3 | R8: =SUM(Q8+'СОО I полуг'!N8) -> 5 | S8: 102 | T8: 0
A9: Алгебра и начала математического анализа | F9: 46423 | G9: 1 | I9: 46463 | J9: 1 | L9: 46489 | M9: 1 | N9: 46526 | P9: 1 | Q9: =SUM(P9,M9,J9,G9,D9) -> 4 | R9: =SUM(Q9+'СОО I полуг'!N9) -> 8 | S9: 136 | T9: =(R9/S9)*100 -> 5.8823529
A10: Геометрия | F10: 46427 | G10: 1 | I10: 46469 | J10: 1 | L10: 46492 | M10: 1 | N10: 46527 | P10: 1 | Q10: =SUM(P10,M10,J10,G10,D10) -> 4 | R10: =SUM(Q10+'СОО I полуг'!N10) -> 5 | S10: 102 | T10: =(R10/S10)*100 -> 4.9019608
A11: Вероятность и статистика | N11: 46524 | P11: 1 | Q11: =SUM(P11,M11,J11,G11,D11) -> 1 | R11: =SUM(Q11+'СОО I полуг'!N11) -> 2 | S11: 34 | T11: =(R11/S11)*100 -> 5.8823529
A12: Информатика | Q12: =SUM(P12,M12,J12,G12,D12) -> 0 | R12: =SUM(Q12+'СОО I полуг'!N12) -> 0 | T12: =(R12/S12)*100 -> #DIV/0!
A13: История | Q13: =SUM(P13,M13,J13,G13,D13) -> 0 | R13: =SUM(Q13+'СОО I полуг'!N13) -> 0 | T13: =(R13/S13)*100 -> #DIV/0!
A14: Обществознание (включая экономику и право) | F14: 46422 | I14: 46458 | O14: 46525 | Q14: =SUM(P14,M14,J14,G14,D14) -> 0 | R14: =SUM(Q14+'СОО I полуг'!N14) -> 0 | T14: =(R14/S14)*100 -> #DIV/0!
A15: География | L15: 46500 | M15: 1 | O15: 46521 | P15: 1 | Q15: =SUM(P15,M15,J15,G15,D15) -> 2 | R15: =SUM(Q15+'СОО I полуг'!N15) -> 2 | S15: 34 | T15: =(R15/S15)*100 -> 5.8823529
A16: Биология | Q16: =SUM(P16,M16,J16,G16,D16) -> 0 | R16: =SUM(Q16+'СОО I полуг'!N16) -> 0 | T16: =(R16/S16)*100 -> #DIV/0!
A17: Физика | C17: 46406 | D17: 1 | F17: 46426 | G17: 1 | I17: 46462 | J17: 1 | Q17: =SUM(P17,M17,J17,G17,D17) -> 3 | R17: =SUM(Q17+'СОО I полуг'!N17) -> 7 | S17: 136 | T17: =(R17/S17)*100 -> 5.1470588
A18: Химия | L18: 46491 | Q18: =SUM(P18,M18,J18,G18,D18) -> 0 | R18: =SUM(Q18+'СОО I полуг'!N18) -> 0 | T18: =(R18/S18)*100 -> #DIV/0!
A19: Индивидуальный проект | Q19: =SUM(P19,M19,J19,G19,D19) -> 0 | R19: =SUM(Q19+'СОО I полуг'!N19) -> 0 | T19: =(R19/S19)*100 -> #DIV/0!
A20: Физическая культура | Q20: =SUM(P20,M20,J20,G20,D20) -> 0 | R20: =SUM(Q20+'СОО I полуг'!N20) -> 0 | T20: 0
A21: ОБЗР | Q21: =SUM(P21,M21,J21,G21,D21) -> 0 | R21: =SUM(Q21+'СОО I полуг'!N21) -> 0 | T21: =(R21/S21)*100 -> #DIV/0!
A22: 11 классы | R22: =(R22/S22)*100 -> #REF!
A23: Литература | Q23: =SUM(P23,M23,J23,G23,D23) -> 0 | R23: =SUM(Q23+'СОО I полуг'!N23) -> 0 | S23: 68 | T23: =(R23/S23)*100 -> 0
A24: Иностранный язык (английский) | Q24: =SUM(P24,M24,J24,G24,D24) -> 0 | R24: =SUM(Q24+'СОО I полуг'!N24) -> 0 | S24: 102 | T24: =(R24/S24)*100 -> 0
A25: Алгебра и начала математического анализа | Q25: =SUM(P25,M25,J25,G25,D25) -> 0 | R25: =SUM(Q25+'СОО I полуг'!N25) -> 0 | T25: 0
A26: Геометрия | Q26: =SUM(P26,M26,J26,G26,D26) -> 0 | R26: =SUM(Q26+'СОО I полуг'!N26) -> 0 | S26: 102 | T26: =(R26/S26)*100 -> 0
A27: Вероятность и статистика | Q27: =SUM(P27,M27,J27,G27,D27) -> 0 | R27: =SUM(Q27+'СОО I полуг'!N27) -> 0 | T27: 0
A28: Информатика | Q28: =SUM(P28,M28,J28,G28,D28) -> 0 | R28: =SUM(Q28+'СОО I полуг'!N28) -> 0 | S28: 136 | T28: =(R28/S28)*100 -> 0
A29: История | Q29: =SUM(P29,M29,J29,G29,D29) -> 0 | R29: =SUM(Q29+'СОО I полуг'!N29) -> 0 | S29: 102 | T29: =(R29/S29)*100 -> 0
A30: Обществознание (включая экономику и право) | Q30: =SUM(P30,M30,J30,G30,D30) -> 0 | R30: =SUM(Q30+'СОО I полуг'!N30) -> 1 | S30: 34 | T30: =(R30/S30)*100 -> 2.9411765
A31: География | Q31: =SUM(P31,M31,J31,G31,D31) -> 0 | R31: =SUM(Q31+'СОО I полуг'!N31) -> 0 | S31: 34 | T31: =(R31/S31)*100 -> 0
A32: Биология | Q32: =SUM(P32,M32,J32,G32,D32) -> 0 | R32: =SUM(Q32+'СОО I полуг'!N32) -> 0 | T32: =(R32/S32)*100 -> #DIV/0!
A33: Физика | Q33: =SUM(P33,M33,J33,G33,D33) -> 0 | R33: =SUM(Q33+'СОО I полуг'!N33) -> 0 | S33: 136 | T33: =(R33/S33)*100 -> 0
A34: Химия | Q34: =SUM(P34,M34,J34,G34,D34) -> 0 | R34: =SUM(Q34+'СОО I полуг'!N34) -> 0 | T34: =(R34/S34)*100 -> #DIV/0!
A35: Индивидуальный проект | Q35: 1 | R35: =SUM(Q35+'СОО I полуг'!N35) -> 1 | S35: 102 | T35: =(R35/S35)*100 -> 0.98039216
A36: Физическая культура | Q36: =SUM(P36,M36,J36,G36,D36) -> 0 | R36: =SUM(Q36+'СОО I полуг'!N36) -> 0 | S36: 68 | T36: =(R36/S36)*100 -> 0
A37: ОБЗР | Q37: 1 | R37: =SUM(Q37+'СОО I полуг'!N37) -> 1 | S37: 34 | T37: =(R37/S37)*100 -> 2.9411765
